BEGIN:VCALENDAR
VERSION:2.0
PRODID:-//Friends Of The Stockton &amp; Darlington Railway - ECPv6.15.20//NONSGML v1.0//EN
CALSCALE:GREGORIAN
METHOD:PUBLISH
X-WR-CALNAME:Friends Of The Stockton &amp; Darlington Railway
X-ORIGINAL-URL:https://sdr1825.org.uk
X-WR-CALDESC:Events for Friends Of The Stockton &amp; Darlington Railway
REFRESH-INTERVAL;VALUE=DURATION:PT1H
X-Robots-Tag:noindex
X-PUBLISHED-TTL:PT1H
BEGIN:VTIMEZONE
TZID:Europe/London
BEGIN:DAYLIGHT
TZOFFSETFROM:+0000
TZOFFSETTO:+0100
TZNAME:BST
DTSTART:20240331T010000
END:DAYLIGHT
BEGIN:STANDARD
TZOFFSETFROM:+0100
TZOFFSETTO:+0000
TZNAME:GMT
DTSTART:20241027T010000
END:STANDARD
BEGIN:DAYLIGHT
TZOFFSETFROM:+0000
TZOFFSETTO:+0100
TZNAME:BST
DTSTART:20250330T010000
END:DAYLIGHT
BEGIN:STANDARD
TZOFFSETFROM:+0100
TZOFFSETTO:+0000
TZNAME:GMT
DTSTART:20251026T010000
END:STANDARD
BEGIN:DAYLIGHT
TZOFFSETFROM:+0000
TZOFFSETTO:+0100
TZNAME:BST
DTSTART:20260329T010000
END:DAYLIGHT
BEGIN:STANDARD
TZOFFSETFROM:+0100
TZOFFSETTO:+0000
TZNAME:GMT
DTSTART:20261025T010000
END:STANDARD
END:VTIMEZONE
BEGIN:VEVENT
DTSTART;TZID=Europe/London:20250501T190000
DTEND;TZID=Europe/London:20250501T210000
DTSTAMP:20260424T150910
CREATED:20241219T104903Z
LAST-MODIFIED:20250217T170016Z
UID:16289-1746126000-1746133200@sdr1825.org.uk
SUMMARY:May 2025 Members Meeting
DESCRIPTION:The May 2025 members meeting will take place at Darlington Cricket Club at 7pm on Thursday 1st May 2025. \nPapers will be circulated to members in advance of the meeting.
URL:https://sdr1825.org.uk/event/may-2025-members-meeting/
LOCATION:Darlington Cricket Club\, THE CLUB HOUSE Feethams South Terrace\, Darlington\, DL1 5JD\, United Kingdom
CATEGORIES:Meeting,Members only
ORGANIZER;CN="Friends of the S&DR":MAILTO:info@sdr1825.org.uk
END:VEVENT
END:VCALENDAR