BEGIN:VCALENDAR
VERSION:2.0
PRODID:-//Friends Of The Stockton &amp; Darlington Railway - ECPv6.15.20//NONSGML v1.0//EN
CALSCALE:GREGORIAN
METHOD:PUBLISH
X-ORIGINAL-URL:https://sdr1825.org.uk
X-WR-CALDESC:Events for Friends Of The Stockton &amp; Darlington Railway
REFRESH-INTERVAL;VALUE=DURATION:PT1H
X-Robots-Tag:noindex
X-PUBLISHED-TTL:PT1H
BEGIN:VTIMEZONE
TZID:Europe/London
BEGIN:DAYLIGHT
TZOFFSETFROM:+0000
TZOFFSETTO:+0100
TZNAME:BST
DTSTART:20240331T010000
END:DAYLIGHT
BEGIN:STANDARD
TZOFFSETFROM:+0100
TZOFFSETTO:+0000
TZNAME:GMT
DTSTART:20241027T010000
END:STANDARD
BEGIN:DAYLIGHT
TZOFFSETFROM:+0000
TZOFFSETTO:+0100
TZNAME:BST
DTSTART:20250330T010000
END:DAYLIGHT
BEGIN:STANDARD
TZOFFSETFROM:+0100
TZOFFSETTO:+0000
TZNAME:GMT
DTSTART:20251026T010000
END:STANDARD
BEGIN:DAYLIGHT
TZOFFSETFROM:+0000
TZOFFSETTO:+0100
TZNAME:BST
DTSTART:20260329T010000
END:DAYLIGHT
BEGIN:STANDARD
TZOFFSETFROM:+0100
TZOFFSETTO:+0000
TZNAME:GMT
DTSTART:20261025T010000
END:STANDARD
END:VTIMEZONE
BEGIN:VEVENT
DTSTART;TZID=Europe/London:20250821T100000
DTEND;TZID=Europe/London:20250908T160000
DTSTAMP:20260424T105707
CREATED:20250519T104233Z
LAST-MODIFIED:20250519T104233Z
UID:17357-1755770400-1757347200@sdr1825.org.uk
SUMMARY:Teesdale Railway Exhibition at the Witham
DESCRIPTION:The Teesdale History Group will be holding an exhibition at the Witham between the 21st August to the 8th September excluding Mondays between 10am-4pm featuring memorabilia\, artwork\, displays\, presentations and a model railway exhibit. \n 
URL:https://sdr1825.org.uk/event/teesdale-railway-exhibition-at-the-witham/
LOCATION:The Witham\, 3 Horsemarket\, Barnard Castle\, DL12 8LY
CATEGORIES:Bicentenary
END:VEVENT
BEGIN:VEVENT
DTSTART;TZID=Europe/London:20250827T103000
DTEND;TZID=Europe/London:20250827T123000
DTSTAMP:20260424T105707
CREATED:20250423T101723Z
LAST-MODIFIED:20250423T101723Z
UID:17236-1756290600-1756297800@sdr1825.org.uk
SUMMARY:Guided Walk: original S&DR Yarm Branch Line from Allen's West Station into Yarm
DESCRIPTION:A circular walk along the original S&DR Yarm Branch Line from Allen’s West Station into Yarm\, returning via Yarm Road & footbridge across the original Leeds Northern Line. \nMeet at Allen’s West Station for 10:30am. \nDistance about 3.5 miles. \nTerrain is a mixture of paved and gravel paths.
URL:https://sdr1825.org.uk/event/guided-walk-original-sdr-yarm-branch-line-from-allens-west-station-into-yarm/
LOCATION:Allen’s West Station\, Eaglescliffe\, TS16 0FE
CATEGORIES:Guided walk,Walking Festival
ORGANIZER;CN="Friends of the S&DR":MAILTO:info@sdr1825.org.uk
END:VEVENT
END:VCALENDAR