BEGIN:VCALENDAR
VERSION:2.0
PRODID:-//Friends Of The Stockton &amp; Darlington Railway - ECPv6.15.20//NONSGML v1.0//EN
CALSCALE:GREGORIAN
METHOD:PUBLISH
X-WR-CALNAME:Friends Of The Stockton &amp; Darlington Railway
X-ORIGINAL-URL:https://sdr1825.org.uk
X-WR-CALDESC:Events for Friends Of The Stockton &amp; Darlington Railway
REFRESH-INTERVAL;VALUE=DURATION:PT1H
X-Robots-Tag:noindex
X-PUBLISHED-TTL:PT1H
BEGIN:VTIMEZONE
TZID:Europe/London
BEGIN:DAYLIGHT
TZOFFSETFROM:+0000
TZOFFSETTO:+0100
TZNAME:BST
DTSTART:20240331T010000
END:DAYLIGHT
BEGIN:STANDARD
TZOFFSETFROM:+0100
TZOFFSETTO:+0000
TZNAME:GMT
DTSTART:20241027T010000
END:STANDARD
BEGIN:DAYLIGHT
TZOFFSETFROM:+0000
TZOFFSETTO:+0100
TZNAME:BST
DTSTART:20250330T010000
END:DAYLIGHT
BEGIN:STANDARD
TZOFFSETFROM:+0100
TZOFFSETTO:+0000
TZNAME:GMT
DTSTART:20251026T010000
END:STANDARD
BEGIN:DAYLIGHT
TZOFFSETFROM:+0000
TZOFFSETTO:+0100
TZNAME:BST
DTSTART:20260329T010000
END:DAYLIGHT
BEGIN:STANDARD
TZOFFSETFROM:+0100
TZOFFSETTO:+0000
TZNAME:GMT
DTSTART:20261025T010000
END:STANDARD
END:VTIMEZONE
BEGIN:VEVENT
DTSTART;VALUE=DATE:20250908
DTEND;VALUE=DATE:20251017
DTSTAMP:20260422T125508
CREATED:20250519T111454Z
LAST-MODIFIED:20250519T121556Z
UID:17367-1757289600-1760659199@sdr1825.org.uk
SUMMARY:On Track Exhibition
DESCRIPTION:An Exhibition celebrating S&DR200: The Art Gallery\, Darlington Library\, Crown Street DL1 1ND.  8th September to 16th October 2025.  Open each Monday & Tuesday 9am to 6pm\, Wednesday & Friday 9am to 5pm\, Thursday 10am to 6pm and Saturday 9am to 4pm (Closed Sunday).  The Exhibition by STITCH & CREATE has taken inspiration from the railways. Join us on our journey of imagination expressed through the world of embroidery & textiles.
URL:https://sdr1825.org.uk/event/on-track/
LOCATION:Darlington Crown Street Library\, Crown Street\, Darlington\, DL1 1ND
CATEGORIES:Bicentenary
END:VEVENT
BEGIN:VEVENT
DTSTART;TZID=Europe/London:20251011T103000
DTEND;TZID=Europe/London:20251011T120000
DTSTAMP:20260422T125508
CREATED:20250213T095904Z
LAST-MODIFIED:20251007T085852Z
UID:16583-1760178600-1760184000@sdr1825.org.uk
SUMMARY:Free Guided Walk: Pease and Backhouse - the families who brought the S&DR to life
DESCRIPTION:WALK FULL \nPease and Backhouse – an introduction to the families who brought the Stockton and Darlington Railway to life.\nDarlington Town Centre and the Quaker burial ground.\n1.5 miles (2 km)\, 1 hour 30 mins. Maximum group size 12. No dogs (except guide dogs). Very Easy. \nIn Darlington’s Quaker burial ground\, many members of the Pease and Backhouse families are buried. These were the characters responsible for the development of the Stockton and Darlington Railway. We will explore their stories of the origins and early years of the Railway. We will meet some of these characters\, and some of their interesting and colourful family members. \nAll of the walk takes place within Darlington town centre. There is a particular focus on the Quaker Burial ground where there are benches to sit on. \nThis is a ticketed event and requires the registration form completing for each person attending by pressing the book this event button and following the instructions on the form:
URL:https://sdr1825.org.uk/event/__trashed-33__trashed/
LOCATION:Darlington Market Place Circular Benches by entrance to St Cuthbert’s Churchyard what3words ///deputy.pies.doing\, Church Lane\, Darlington\, DL1 5QD
CATEGORIES:Walking Festival
END:VEVENT
END:VCALENDAR