BEGIN:VCALENDAR
VERSION:2.0
PRODID:-//Friends Of The Stockton &amp; Darlington Railway - ECPv6.15.20//NONSGML v1.0//EN
CALSCALE:GREGORIAN
METHOD:PUBLISH
X-ORIGINAL-URL:https://sdr1825.org.uk
X-WR-CALDESC:Events for Friends Of The Stockton &amp; Darlington Railway
REFRESH-INTERVAL;VALUE=DURATION:PT1H
X-Robots-Tag:noindex
X-PUBLISHED-TTL:PT1H
BEGIN:VTIMEZONE
TZID:Europe/London
BEGIN:DAYLIGHT
TZOFFSETFROM:+0000
TZOFFSETTO:+0100
TZNAME:BST
DTSTART:20240331T010000
END:DAYLIGHT
BEGIN:STANDARD
TZOFFSETFROM:+0100
TZOFFSETTO:+0000
TZNAME:GMT
DTSTART:20241027T010000
END:STANDARD
BEGIN:DAYLIGHT
TZOFFSETFROM:+0000
TZOFFSETTO:+0100
TZNAME:BST
DTSTART:20250330T010000
END:DAYLIGHT
BEGIN:STANDARD
TZOFFSETFROM:+0100
TZOFFSETTO:+0000
TZNAME:GMT
DTSTART:20251026T010000
END:STANDARD
BEGIN:DAYLIGHT
TZOFFSETFROM:+0000
TZOFFSETTO:+0100
TZNAME:BST
DTSTART:20260329T010000
END:DAYLIGHT
BEGIN:STANDARD
TZOFFSETFROM:+0100
TZOFFSETTO:+0000
TZNAME:GMT
DTSTART:20261025T010000
END:STANDARD
END:VTIMEZONE
BEGIN:VEVENT
DTSTART;TZID=Europe/London:20250517T130000
DTEND;TZID=Europe/London:20250517T160000
DTSTAMP:20260420T212945
CREATED:20250508T101743Z
LAST-MODIFIED:20250508T151215Z
UID:17324-1747486800-1747497600@sdr1825.org.uk
SUMMARY:Shildon History Day
DESCRIPTION:Join us on Saturday 17th May between 1pm and 4pm at Shildon’s historic Railway Institute for our How the Railways came to Shildon History Day. Featuring model railway displays and a range of stalls selling food\, books and memorabilia. There will be history talks taking place throughout the afternoon from a number of speakers. \nTickets are £5 and available by emailing Margaret Fenwick at matfen@live.co.uk or John Raw at jraw2883@aol.com or on the door. \n  \n 
URL:https://sdr1825.org.uk/event/shildon-history-day/
CATEGORIES:Anniversary events,General event
ATTACH;FMTTYPE=image/jpeg:https://sdr1825.org.uk/wp-content/uploads/2025/05/Heighington-History-Day-New.jpg
ORGANIZER;CN="Heighington Station Group":MAILTO:matfen@live.com
END:VEVENT
END:VCALENDAR