BEGIN:VCALENDAR
VERSION:2.0
PRODID:-//Friends Of The Stockton &amp; Darlington Railway - ECPv6.15.20//NONSGML v1.0//EN
CALSCALE:GREGORIAN
METHOD:PUBLISH
X-WR-CALNAME:Friends Of The Stockton &amp; Darlington Railway
X-ORIGINAL-URL:https://sdr1825.org.uk
X-WR-CALDESC:Events for Friends Of The Stockton &amp; Darlington Railway
REFRESH-INTERVAL;VALUE=DURATION:PT1H
X-Robots-Tag:noindex
X-PUBLISHED-TTL:PT1H
BEGIN:VTIMEZONE
TZID:Europe/London
BEGIN:DAYLIGHT
TZOFFSETFROM:+0000
TZOFFSETTO:+0100
TZNAME:BST
DTSTART:20230326T010000
END:DAYLIGHT
BEGIN:STANDARD
TZOFFSETFROM:+0100
TZOFFSETTO:+0000
TZNAME:GMT
DTSTART:20231029T010000
END:STANDARD
BEGIN:DAYLIGHT
TZOFFSETFROM:+0000
TZOFFSETTO:+0100
TZNAME:BST
DTSTART:20240331T010000
END:DAYLIGHT
BEGIN:STANDARD
TZOFFSETFROM:+0100
TZOFFSETTO:+0000
TZNAME:GMT
DTSTART:20241027T010000
END:STANDARD
BEGIN:DAYLIGHT
TZOFFSETFROM:+0000
TZOFFSETTO:+0100
TZNAME:BST
DTSTART:20250330T010000
END:DAYLIGHT
BEGIN:STANDARD
TZOFFSETFROM:+0100
TZOFFSETTO:+0000
TZNAME:GMT
DTSTART:20251026T010000
END:STANDARD
END:VTIMEZONE
BEGIN:VEVENT
DTSTART;TZID=Europe/London:20240915T080000
DTEND;TZID=Europe/London:20240915T170000
DTSTAMP:20260423T165010
CREATED:20240915T085248Z
LAST-MODIFIED:20240915T085422Z
UID:15902-1726387200-1726419600@sdr1825.org.uk
SUMMARY:Book Launch 27th September at Locomotion
DESCRIPTION:On behalf of Husqvarna and the Friends of the Stockton & Darlington Railway\, we have pleasure in inviting you to the formal launch of our walk booklet covering Shildon to Heighington on the 27th September from 4.00pm until 6.30pm at Locomotion’s main hall in Shildon. There will be drinks and celebration cake and an opportunity to network\, catch up with the latest news from the Friends and an amble amongst the collections. I do hope you will find time to attend on this busy day; the 199th anniversary of the Stockton & Darlington Railway. \nFor the purposes of catering\, please let me know if you plan to attend at caroline@aenvironment.co.uk before the 18th September. If you miss this admittedly short deadline\, let me know anyway and we will be pleased to make some adjustments to accommodate you. \nOur walk booklets were first published in 2016\, but are now being redesigned and updated in preparation for 2025. We have always seen these as an important part of the heritage led economic regeneration strategy that is the S&DR project\, spreading the economic benefits of visitors to the area beyond the honeypot sites of Locomotion and Hopetown. They are an important part of the offer for 2025 and beyond and encourage people to get out and about by foot and by train and can be used to link to other heritage interest sites in the wider area such as the Auckland Project. So far\, we have updated the books covering West Auckland to Shildon\, The Shildon Circular and now this stretch between Shildon and Heighington. We will soon turn our attention to Darlington. Of course\, the timetable is largely dictated by the progress of the new S&DR Discovery Trail. \nThis event is for members of the Friends of the S&DR only and our partners. \nWe are looking forward to seeing you. \n 
URL:https://sdr1825.org.uk/event/book-launch-27th-september-at-locomotion/
CATEGORIES:Anniversary events,General event,Members only
ATTACH;FMTTYPE=image/png:https://sdr1825.org.uk/wp-content/uploads/2024/07/Booklet-4.png
END:VEVENT
END:VCALENDAR