BEGIN:VCALENDAR
VERSION:2.0
PRODID:-//Friends Of The Stockton &amp; Darlington Railway - ECPv6.15.20//NONSGML v1.0//EN
CALSCALE:GREGORIAN
METHOD:PUBLISH
X-ORIGINAL-URL:https://sdr1825.org.uk
X-WR-CALDESC:Events for Friends Of The Stockton &amp; Darlington Railway
REFRESH-INTERVAL;VALUE=DURATION:PT1H
X-Robots-Tag:noindex
X-PUBLISHED-TTL:PT1H
BEGIN:VTIMEZONE
TZID:Europe/London
BEGIN:DAYLIGHT
TZOFFSETFROM:+0000
TZOFFSETTO:+0100
TZNAME:BST
DTSTART:20240331T010000
END:DAYLIGHT
BEGIN:STANDARD
TZOFFSETFROM:+0100
TZOFFSETTO:+0000
TZNAME:GMT
DTSTART:20241027T010000
END:STANDARD
BEGIN:DAYLIGHT
TZOFFSETFROM:+0000
TZOFFSETTO:+0100
TZNAME:BST
DTSTART:20250330T010000
END:DAYLIGHT
BEGIN:STANDARD
TZOFFSETFROM:+0100
TZOFFSETTO:+0000
TZNAME:GMT
DTSTART:20251026T010000
END:STANDARD
BEGIN:DAYLIGHT
TZOFFSETFROM:+0000
TZOFFSETTO:+0100
TZNAME:BST
DTSTART:20260329T010000
END:DAYLIGHT
BEGIN:STANDARD
TZOFFSETFROM:+0100
TZOFFSETTO:+0000
TZNAME:GMT
DTSTART:20261025T010000
END:STANDARD
END:VTIMEZONE
BEGIN:VEVENT
DTSTART;VALUE=DATE:20250908
DTEND;VALUE=DATE:20251017
DTSTAMP:20260420T150431
CREATED:20250519T111454Z
LAST-MODIFIED:20250519T121556Z
UID:17367-1757289600-1760659199@sdr1825.org.uk
SUMMARY:On Track Exhibition
DESCRIPTION:An Exhibition celebrating S&DR200: The Art Gallery\, Darlington Library\, Crown Street DL1 1ND.  8th September to 16th October 2025.  Open each Monday & Tuesday 9am to 6pm\, Wednesday & Friday 9am to 5pm\, Thursday 10am to 6pm and Saturday 9am to 4pm (Closed Sunday).  The Exhibition by STITCH & CREATE has taken inspiration from the railways. Join us on our journey of imagination expressed through the world of embroidery & textiles.
URL:https://sdr1825.org.uk/event/on-track/
LOCATION:Darlington Crown Street Library\, Crown Street\, Darlington\, DL1 1ND
CATEGORIES:Bicentenary
END:VEVENT
BEGIN:VEVENT
DTSTART;TZID=Europe/London:20250912T100000
DTEND;TZID=Europe/London:20250930T150000
DTSTAMP:20260420T150431
CREATED:20250519T110700Z
LAST-MODIFIED:20250519T110723Z
UID:17360-1757671200-1759244400@sdr1825.org.uk
SUMMARY:Ticket to Teesdale Exhibition
DESCRIPTION:An Exhibition by the North Eastern Railway Association (NERA) of photographs’  accompanied by memorabilia\, maps & documents from the Library.  The Exhibition will open on Heritage Open Days: Friday 12th Tuesday-16th September 2025\, 10am-3pm; will continue Mondays & Tuesdays through September 10.30am-2.30pm.
URL:https://sdr1825.org.uk/event/ticket-to-teesdale-exhibition/
LOCATION:Fitzhugh Library\, 1st Floor\, 51 Market Place\, Middleton in Teesdale\, DL12 0QH
CATEGORIES:Bicentenary
ORGANIZER;CN="Fitzhugh Library":MAILTO:fitzhughlibrary@gmail.com
END:VEVENT
BEGIN:VEVENT
DTSTART;TZID=Europe/London:20250928T123000
DTEND;TZID=Europe/London:20250928T170000
DTSTAMP:20260420T150431
CREATED:20250730T083824Z
LAST-MODIFIED:20250730T083824Z
UID:17587-1759062600-1759078800@sdr1825.org.uk
SUMMARY:Witton Park Bicentenary Event
DESCRIPTION:Join the Etherley Incline Group for a Railway Exhibition to mark the Bicentenary of the opening of the S&DR at Witton Park Methodist Church between 12:30pm and 5:00pm. \nContact John Raw for more details about this event. jraw2883@aol.com
URL:https://sdr1825.org.uk/event/witton-park-bicentenary-event/
LOCATION:Witton Park Methodist Church\, Low Queen Street\, Witton Park\, DL14 0DG
CATEGORIES:Bicentenary
ATTACH;FMTTYPE=image/jpeg:https://sdr1825.org.uk/wp-content/uploads/2025/07/Witton-Park-Poster-by-Catherine-Yates.jpg
ORGANIZER;CN="John Raw":MAILTO:jraw2883@aol.com
END:VEVENT
END:VCALENDAR