BEGIN:VCALENDAR
VERSION:2.0
PRODID:-//Friends Of The Stockton &amp; Darlington Railway - ECPv6.15.20//NONSGML v1.0//EN
CALSCALE:GREGORIAN
METHOD:PUBLISH
X-ORIGINAL-URL:https://sdr1825.org.uk
X-WR-CALDESC:Events for Friends Of The Stockton &amp; Darlington Railway
REFRESH-INTERVAL;VALUE=DURATION:PT1H
X-Robots-Tag:noindex
X-PUBLISHED-TTL:PT1H
BEGIN:VTIMEZONE
TZID:Europe/London
BEGIN:DAYLIGHT
TZOFFSETFROM:+0000
TZOFFSETTO:+0100
TZNAME:BST
DTSTART:20240331T010000
END:DAYLIGHT
BEGIN:STANDARD
TZOFFSETFROM:+0100
TZOFFSETTO:+0000
TZNAME:GMT
DTSTART:20241027T010000
END:STANDARD
BEGIN:DAYLIGHT
TZOFFSETFROM:+0000
TZOFFSETTO:+0100
TZNAME:BST
DTSTART:20250330T010000
END:DAYLIGHT
BEGIN:STANDARD
TZOFFSETFROM:+0100
TZOFFSETTO:+0000
TZNAME:GMT
DTSTART:20251026T010000
END:STANDARD
BEGIN:DAYLIGHT
TZOFFSETFROM:+0000
TZOFFSETTO:+0100
TZNAME:BST
DTSTART:20260329T010000
END:DAYLIGHT
BEGIN:STANDARD
TZOFFSETFROM:+0100
TZOFFSETTO:+0000
TZNAME:GMT
DTSTART:20261025T010000
END:STANDARD
END:VTIMEZONE
BEGIN:VEVENT
DTSTART;TZID=Europe/London:20251105T104000
DTEND;TZID=Europe/London:20251105T130000
DTSTAMP:20260420T003329
CREATED:20251030T145955Z
LAST-MODIFIED:20251030T145955Z
UID:17963-1762339200-1762347600@sdr1825.org.uk
SUMMARY:Free guided walk: Circular Walk around Shildon
DESCRIPTION:Approx 5.8miles\, easy going\, 1 stile\, dog friendly\,\nsturdy boots\nRefreshments at the former Wagon Works Canteen\nFor more details contact jraw2883@aol.com \nIf wet the
URL:https://sdr1825.org.uk/event/free-guided-walk-circular-walk-around-shildon/
LOCATION:Locomotion\, Shildon\, Dale Road\, Shildon\, DL4 2RE\, United Kingdom
CATEGORIES:Guided walk
ORGANIZER;CN="John Raw":MAILTO:jraw2883@aol.com
END:VEVENT
END:VCALENDAR