BEGIN:VCALENDAR
VERSION:2.0
PRODID:-//Friends Of The Stockton &amp; Darlington Railway - ECPv6.15.20//NONSGML v1.0//EN
CALSCALE:GREGORIAN
METHOD:PUBLISH
X-ORIGINAL-URL:https://sdr1825.org.uk
X-WR-CALDESC:Events for Friends Of The Stockton &amp; Darlington Railway
REFRESH-INTERVAL;VALUE=DURATION:PT1H
X-Robots-Tag:noindex
X-PUBLISHED-TTL:PT1H
BEGIN:VTIMEZONE
TZID:Europe/London
BEGIN:DAYLIGHT
TZOFFSETFROM:+0000
TZOFFSETTO:+0100
TZNAME:BST
DTSTART:20240331T010000
END:DAYLIGHT
BEGIN:STANDARD
TZOFFSETFROM:+0100
TZOFFSETTO:+0000
TZNAME:GMT
DTSTART:20241027T010000
END:STANDARD
BEGIN:DAYLIGHT
TZOFFSETFROM:+0000
TZOFFSETTO:+0100
TZNAME:BST
DTSTART:20250330T010000
END:DAYLIGHT
BEGIN:STANDARD
TZOFFSETFROM:+0100
TZOFFSETTO:+0000
TZNAME:GMT
DTSTART:20251026T010000
END:STANDARD
BEGIN:DAYLIGHT
TZOFFSETFROM:+0000
TZOFFSETTO:+0100
TZNAME:BST
DTSTART:20260329T010000
END:DAYLIGHT
BEGIN:STANDARD
TZOFFSETFROM:+0100
TZOFFSETTO:+0000
TZNAME:GMT
DTSTART:20261025T010000
END:STANDARD
END:VTIMEZONE
BEGIN:VEVENT
DTSTART;TZID=Europe/London:20250319T103000
DTEND;TZID=Europe/London:20250319T103000
DTSTAMP:20260420T201214
CREATED:20250210T155540Z
LAST-MODIFIED:20250313T121401Z
UID:16519-1742380200-1742380200@sdr1825.org.uk
SUMMARY:Free Guided Walk: Walk from Eaglescliffe Station to St. John's Crossing Stockton
DESCRIPTION:A linear Walk from Eaglescliffe Station to St John’s Crossing\, Stockton via Preston Park \nThis is a ticketed event and requires the registration form completing for each person attending by pressing the book this event button and following the instructions on the form:
URL:https://sdr1825.org.uk/event/walk-from-eaglescliffe-station-to-st-johns-crossing-stockton/
LOCATION:Eaglescliffe Station
CATEGORIES:Walking Festival
END:VEVENT
BEGIN:VEVENT
DTSTART;TZID=Europe/London:20250319T190000
DTEND;TZID=Europe/London:20250319T190000
DTSTAMP:20260420T201214
CREATED:20250210T155542Z
LAST-MODIFIED:20250313T101952Z
UID:16520-1742410800-1742410800@sdr1825.org.uk
SUMMARY:Free Talk: The Quaker Dominance on the S&DR & the Mines & Villages of County Durham
DESCRIPTION:It’s part of the significance of the S&DR to understand how it built a region. Our line\, the S&DR\, would never have existed as we know it without Tyneside engineering OR the business skill of Quakers. Their investment was existential to the 1825 line and to the 1830 Middlesbrough Estate\, but then continued full speed under Sir Joseph Pease (1799-1872)\, whose companies are usually quoted as attaining 10\,000 workers. \nHowever\, his story* is usually about Darlington\, its grand houses and politics rather than the integrated business combine of railway extensions\, new villages and mines in the Durham coalfield.  The talk identifies his ten coal mines by 1869 with successive extensions of the S&DR rail companies\, notably the 1858 route using more inclines to reach the Deerness valley at Esh Winning\, one of the Quaker built villages where historians do find a better benevolent layout with schools etc. \n*As in editions of the Northern Echo Memories and our Workshop at the Darlington Meeting House: https://sdr1825.org.uk/wp-content/uploads/2023/12/The-Quaker-Line-Alan-Townsend-Ed.pdf \nThis talk is given by Professor Alan Townsend\, Vice Chair Friends of the Stockton & Darlington Railway\, Emeritus Professor of Geography\, Durham University. \nThis is a ticketed event and requires the registration form completing for each person attending by pressing the book this event button and following the instructions on the form:
URL:https://sdr1825.org.uk/event/the-quaker-dominance-on-the-sdr-the-mines-villages-of-county-durham/
LOCATION:Shildon Railway Institute\, Shildon\, DL4 2JJ\, United Kingdom
CATEGORIES:Walking Festival
END:VEVENT
END:VCALENDAR