BEGIN:VCALENDAR
VERSION:2.0
PRODID:-//Friends Of The Stockton &amp; Darlington Railway - ECPv6.15.20//NONSGML v1.0//EN
CALSCALE:GREGORIAN
METHOD:PUBLISH
X-WR-CALNAME:Friends Of The Stockton &amp; Darlington Railway
X-ORIGINAL-URL:https://sdr1825.org.uk
X-WR-CALDESC:Events for Friends Of The Stockton &amp; Darlington Railway
REFRESH-INTERVAL;VALUE=DURATION:PT1H
X-Robots-Tag:noindex
X-PUBLISHED-TTL:PT1H
BEGIN:VTIMEZONE
TZID:Europe/London
BEGIN:DAYLIGHT
TZOFFSETFROM:+0000
TZOFFSETTO:+0100
TZNAME:BST
DTSTART:20240331T010000
END:DAYLIGHT
BEGIN:STANDARD
TZOFFSETFROM:+0100
TZOFFSETTO:+0000
TZNAME:GMT
DTSTART:20241027T010000
END:STANDARD
BEGIN:DAYLIGHT
TZOFFSETFROM:+0000
TZOFFSETTO:+0100
TZNAME:BST
DTSTART:20250330T010000
END:DAYLIGHT
BEGIN:STANDARD
TZOFFSETFROM:+0100
TZOFFSETTO:+0000
TZNAME:GMT
DTSTART:20251026T010000
END:STANDARD
BEGIN:DAYLIGHT
TZOFFSETFROM:+0000
TZOFFSETTO:+0100
TZNAME:BST
DTSTART:20260329T010000
END:DAYLIGHT
BEGIN:STANDARD
TZOFFSETFROM:+0100
TZOFFSETTO:+0000
TZNAME:GMT
DTSTART:20261025T010000
END:STANDARD
END:VTIMEZONE
BEGIN:VEVENT
DTSTART;TZID=Europe/London:20250423T103000
DTEND;TZID=Europe/London:20250423T133000
DTSTAMP:20260420T182805
CREATED:20250311T161357Z
LAST-MODIFIED:20250313T120717Z
UID:17004-1745404200-1745415000@sdr1825.org.uk
SUMMARY:Free Guided Walk: Yarm Branchline Circular Walk
DESCRIPTION:A circular walk along the original S&DR Yarm Branch Line from Allen’s West Station into Yarm\, returning via Yarm Road & footbridge across the original Leeds Northern Line. \nMeet at Allen’s West Station for 10:30am. \nDistance about 4 miles. \nTerrain is a mixture of paved and gravel paths.
URL:https://sdr1825.org.uk/event/yarm-branchline-circular-walk/
LOCATION:Allen’s West Station\, Eaglescliffe\, TS16 0FE
CATEGORIES:Walking Festival
ORGANIZER;CN="Friends of the S&DR":MAILTO:info@sdr1825.org.uk
END:VEVENT
END:VCALENDAR