BEGIN:VCALENDAR
VERSION:2.0
PRODID:-//Friends Of The Stockton &amp; Darlington Railway - ECPv6.15.20//NONSGML v1.0//EN
CALSCALE:GREGORIAN
METHOD:PUBLISH
X-WR-CALNAME:Friends Of The Stockton &amp; Darlington Railway
X-ORIGINAL-URL:https://sdr1825.org.uk
X-WR-CALDESC:Events for Friends Of The Stockton &amp; Darlington Railway
REFRESH-INTERVAL;VALUE=DURATION:PT1H
X-Robots-Tag:noindex
X-PUBLISHED-TTL:PT1H
BEGIN:VTIMEZONE
TZID:Europe/London
BEGIN:DAYLIGHT
TZOFFSETFROM:+0000
TZOFFSETTO:+0100
TZNAME:BST
DTSTART:20240331T010000
END:DAYLIGHT
BEGIN:STANDARD
TZOFFSETFROM:+0100
TZOFFSETTO:+0000
TZNAME:GMT
DTSTART:20241027T010000
END:STANDARD
BEGIN:DAYLIGHT
TZOFFSETFROM:+0000
TZOFFSETTO:+0100
TZNAME:BST
DTSTART:20250330T010000
END:DAYLIGHT
BEGIN:STANDARD
TZOFFSETFROM:+0100
TZOFFSETTO:+0000
TZNAME:GMT
DTSTART:20251026T010000
END:STANDARD
BEGIN:DAYLIGHT
TZOFFSETFROM:+0000
TZOFFSETTO:+0100
TZNAME:BST
DTSTART:20260329T010000
END:DAYLIGHT
BEGIN:STANDARD
TZOFFSETFROM:+0100
TZOFFSETTO:+0000
TZNAME:GMT
DTSTART:20261025T010000
END:STANDARD
END:VTIMEZONE
BEGIN:VEVENT
DTSTART;TZID=Europe/London:20250618T190000
DTEND;TZID=Europe/London:20250719T190000
DTSTAMP:20260420T152334
CREATED:20250213T095937Z
LAST-MODIFIED:20250313T115216Z
UID:16554-1750273200-1752951600@sdr1825.org.uk
SUMMARY:Free Talk: The Three Greeners of Etherley and a Model Steam Engine
DESCRIPTION:This is a ticketed event and requires the registration form completing for each person attending by pressing the book this event button and following the instructions on the form:
URL:https://sdr1825.org.uk/event/__trashed-63__trashed/
LOCATION:Shildon Railway Institute\, Shildon\, DL4 2JJ\, United Kingdom
CATEGORIES:Walking Festival
END:VEVENT
BEGIN:VEVENT
DTSTART;TZID=Europe/London:20250625T103000
DTEND;TZID=Europe/London:20250625T123000
DTSTAMP:20260420T152334
CREATED:20250423T100602Z
LAST-MODIFIED:20250423T102632Z
UID:17223-1750847400-1750854600@sdr1825.org.uk
SUMMARY:Free Guided Walk: Eaglescliffe Station to St. John’s Crossing via Site of 1830 S&DR Suspension Bridge & Preston Park.
DESCRIPTION:A linear walk from Eaglescliffe Station to St. John’s Crossing via Site of 1830 S&DR Suspension Bridge & Preston Park. \nMeet at Eaglescliffe Station for 10:30am. \nDistance about 4miles. \nTerrain is a mixture of paved and gravel paths with a short walk next to the River Tees under the A66 and 2 railway bridges.
URL:https://sdr1825.org.uk/event/guided-walk-eaglescliffe-station-to-st-johns-crossing-via-site-of-1830-sdr-suspension-bridge-preston-park/
LOCATION:Eaglescliffe Station
CATEGORIES:Guided walk,Walking Festival
ORGANIZER;CN="Friends of the S&DR":MAILTO:info@sdr1825.org.uk
END:VEVENT
END:VCALENDAR