BEGIN:VCALENDAR
VERSION:2.0
PRODID:-//Friends Of The Stockton &amp; Darlington Railway - ECPv6.15.20//NONSGML v1.0//EN
CALSCALE:GREGORIAN
METHOD:PUBLISH
X-ORIGINAL-URL:https://sdr1825.org.uk
X-WR-CALDESC:Events for Friends Of The Stockton &amp; Darlington Railway
REFRESH-INTERVAL;VALUE=DURATION:PT1H
X-Robots-Tag:noindex
X-PUBLISHED-TTL:PT1H
BEGIN:VTIMEZONE
TZID:Europe/London
BEGIN:DAYLIGHT
TZOFFSETFROM:+0000
TZOFFSETTO:+0100
TZNAME:BST
DTSTART:20240331T010000
END:DAYLIGHT
BEGIN:STANDARD
TZOFFSETFROM:+0100
TZOFFSETTO:+0000
TZNAME:GMT
DTSTART:20241027T010000
END:STANDARD
BEGIN:DAYLIGHT
TZOFFSETFROM:+0000
TZOFFSETTO:+0100
TZNAME:BST
DTSTART:20250330T010000
END:DAYLIGHT
BEGIN:STANDARD
TZOFFSETFROM:+0100
TZOFFSETTO:+0000
TZNAME:GMT
DTSTART:20251026T010000
END:STANDARD
BEGIN:DAYLIGHT
TZOFFSETFROM:+0000
TZOFFSETTO:+0100
TZNAME:BST
DTSTART:20260329T010000
END:DAYLIGHT
BEGIN:STANDARD
TZOFFSETFROM:+0100
TZOFFSETTO:+0000
TZNAME:GMT
DTSTART:20261025T010000
END:STANDARD
END:VTIMEZONE
BEGIN:VEVENT
DTSTART;TZID=Europe/London:20250618T190000
DTEND;TZID=Europe/London:20250719T190000
DTSTAMP:20260420T135138
CREATED:20250213T095937Z
LAST-MODIFIED:20250313T115216Z
UID:16554-1750273200-1752951600@sdr1825.org.uk
SUMMARY:Free Talk: The Three Greeners of Etherley and a Model Steam Engine
DESCRIPTION:This is a ticketed event and requires the registration form completing for each person attending by pressing the book this event button and following the instructions on the form:
URL:https://sdr1825.org.uk/event/__trashed-63__trashed/
LOCATION:Shildon Railway Institute\, Shildon\, DL4 2JJ\, United Kingdom
CATEGORIES:Walking Festival
END:VEVENT
BEGIN:VEVENT
DTSTART;TZID=Europe/London:20250716T103000
DTEND;TZID=Europe/London:20250716T123000
DTSTAMP:20260420T135138
CREATED:20250610T123740Z
LAST-MODIFIED:20250610T123740Z
UID:17438-1752661800-1752669000@sdr1825.org.uk
SUMMARY:Free Guided Walk: Stockton Circular
DESCRIPTION:Meet at Stockton Town Hall at 10.30 am visiting various locations connected with the S&DR in 1825\, the extension of the S&DR across the River Tees in 1830 and the arrival of the Leeds Northern Railway (LNR) in 1852.
URL:https://sdr1825.org.uk/event/free-guided-walk-stockton-circular/
LOCATION:Stockton Town Hall\, High Street\, Stockton-On-Tees\, TS20 1DR
CATEGORIES:Walking Festival
ORGANIZER;CN="Friends of the S&DR":MAILTO:info@sdr1825.org.uk
END:VEVENT
BEGIN:VEVENT
DTSTART;TZID=Europe/London:20250716T103000
DTEND;TZID=Europe/London:20250716T133000
DTSTAMP:20260420T135138
CREATED:20250623T150727Z
LAST-MODIFIED:20250623T150739Z
UID:17472-1752661800-1752672600@sdr1825.org.uk
SUMMARY:Free Guided Walk: Gaunless Bridge Walk
DESCRIPTION:Meeting outside the Well Cafe in West Auckland\, this walk will cover the original site of the Gaunless Bridge before following the S&DR over the inclines to Shildon to see the preserved bridge\, with a stop at Broom Mill Cafe.6.4 miles\, some moderate gradients and stiles.
URL:https://sdr1825.org.uk/event/free-guided-walk-gaunless-bridge-walk/
LOCATION:Car Park in front of Well Cafe\, 46 East Green\, West Auckland\, DL14 9HJ\, United Kingdom
CATEGORIES:Bicentenary,Walking Festival
ORGANIZER;CN="John Raw":MAILTO:jraw2883@aol.com
END:VEVENT
BEGIN:VEVENT
DTSTART;TZID=Europe/London:20250716T190000
DTEND;TZID=Europe/London:20250716T190000
DTSTAMP:20260420T135138
CREATED:20250213T095935Z
LAST-MODIFIED:20250313T114704Z
UID:16562-1752692400-1752692400@sdr1825.org.uk
SUMMARY:Free Talk: Teesdale Tracks and Derailing Dukes
DESCRIPTION:This is a ticketed event and requires the registration form completing for each person attending by pressing the book this event button and following the instructions on the form:
URL:https://sdr1825.org.uk/event/__trashed-54__trashed/
LOCATION:Shildon Railway Institute\, Shildon\, DL4 2JJ\, United Kingdom
CATEGORIES:Walking Festival
END:VEVENT
END:VCALENDAR