BEGIN:VCALENDAR
VERSION:2.0
PRODID:-//Friends Of The Stockton &amp; Darlington Railway - ECPv6.15.20//NONSGML v1.0//EN
CALSCALE:GREGORIAN
METHOD:PUBLISH
X-ORIGINAL-URL:https://sdr1825.org.uk
X-WR-CALDESC:Events for Friends Of The Stockton &amp; Darlington Railway
REFRESH-INTERVAL;VALUE=DURATION:PT1H
X-Robots-Tag:noindex
X-PUBLISHED-TTL:PT1H
BEGIN:VTIMEZONE
TZID:Europe/London
BEGIN:DAYLIGHT
TZOFFSETFROM:+0000
TZOFFSETTO:+0100
TZNAME:BST
DTSTART:20240331T010000
END:DAYLIGHT
BEGIN:STANDARD
TZOFFSETFROM:+0100
TZOFFSETTO:+0000
TZNAME:GMT
DTSTART:20241027T010000
END:STANDARD
BEGIN:DAYLIGHT
TZOFFSETFROM:+0000
TZOFFSETTO:+0100
TZNAME:BST
DTSTART:20250330T010000
END:DAYLIGHT
BEGIN:STANDARD
TZOFFSETFROM:+0100
TZOFFSETTO:+0000
TZNAME:GMT
DTSTART:20251026T010000
END:STANDARD
BEGIN:DAYLIGHT
TZOFFSETFROM:+0000
TZOFFSETTO:+0100
TZNAME:BST
DTSTART:20260329T010000
END:DAYLIGHT
BEGIN:STANDARD
TZOFFSETFROM:+0100
TZOFFSETTO:+0000
TZNAME:GMT
DTSTART:20261025T010000
END:STANDARD
END:VTIMEZONE
BEGIN:VEVENT
DTSTART;VALUE=DATE:20250901
DTEND;VALUE=DATE:20250906
DTSTAMP:20260420T081746
CREATED:20250811T160404Z
LAST-MODIFIED:20250811T160404Z
UID:17669-1756684800-1757116799@sdr1825.org.uk
SUMMARY:Walking the Line - Monday 1st September to Friday 5th September 2025
DESCRIPTION:Your chance to walk the original 1825 route of the Stockton & Darlington Railway.\nStarting near the south west Durham coalfields and finishing at the site of the coal\nstaithes on the River Tees in Stockton. We are looking for 30 people to walk the whole\nroute over 5 days. We will be doing 2 short stretches of the route via train as there is\nno safe walking route close to the track bed. \n\nDay 1 – New Inn Crossroads to Shildon Station. (7 miles)\nDay 2 – Shildon Station (visit to Locomotion Museum) to North Road Station via\nHeighington Station. Train from Heighington to North Road. (4 miles)\nDay 3 – North Road Station (visit to Hopetown) to Dinsdale Station.\n(6 miles)\nDay 4 – Dinsdale to Allen’s West and the Yarm Branch. Train from Dinsdale to\nAllen’s West. (3 miles)\nDay 5 – Allen’s West to St. Johns Crossing and the River Tees. (6 miles)\n\nFurther details will be sent to the 30 successful applicants about 7 days prior to the\nstart.\nTo find out more information – contact:-\nPeter Bainbridge – membership.sdr1825@virginmedia.com- 07941 446663\nJohn Raw – jraw2883@aol.com– 01388 663764
URL:https://sdr1825.org.uk/event/walking-the-line-monday-1st-september-to-friday-5th-september-2025/
CATEGORIES:Anniversary events,Bicentenary,Walking Festival
ORGANIZER;CN="Peter Bainbridge":MAILTO:membership.sdr1825@virginmedia.com
END:VEVENT
END:VCALENDAR