BEGIN:VCALENDAR
VERSION:2.0
PRODID:-//Friends Of The Stockton &amp; Darlington Railway - ECPv6.15.20//NONSGML v1.0//EN
CALSCALE:GREGORIAN
METHOD:PUBLISH
X-WR-CALNAME:Friends Of The Stockton &amp; Darlington Railway
X-ORIGINAL-URL:https://sdr1825.org.uk
X-WR-CALDESC:Events for Friends Of The Stockton &amp; Darlington Railway
REFRESH-INTERVAL;VALUE=DURATION:PT1H
X-Robots-Tag:noindex
X-PUBLISHED-TTL:PT1H
BEGIN:VTIMEZONE
TZID:Europe/London
BEGIN:DAYLIGHT
TZOFFSETFROM:+0000
TZOFFSETTO:+0100
TZNAME:BST
DTSTART:20240331T010000
END:DAYLIGHT
BEGIN:STANDARD
TZOFFSETFROM:+0100
TZOFFSETTO:+0000
TZNAME:GMT
DTSTART:20241027T010000
END:STANDARD
BEGIN:DAYLIGHT
TZOFFSETFROM:+0000
TZOFFSETTO:+0100
TZNAME:BST
DTSTART:20250330T010000
END:DAYLIGHT
BEGIN:STANDARD
TZOFFSETFROM:+0100
TZOFFSETTO:+0000
TZNAME:GMT
DTSTART:20251026T010000
END:STANDARD
BEGIN:DAYLIGHT
TZOFFSETFROM:+0000
TZOFFSETTO:+0100
TZNAME:BST
DTSTART:20260329T010000
END:DAYLIGHT
BEGIN:STANDARD
TZOFFSETFROM:+0100
TZOFFSETTO:+0000
TZNAME:GMT
DTSTART:20261025T010000
END:STANDARD
END:VTIMEZONE
BEGIN:VEVENT
DTSTART;TZID=Europe/London:20250910T103000
DTEND;TZID=Europe/London:20250910T120000
DTSTAMP:20260420T081443
CREATED:20250217T162629Z
LAST-MODIFIED:20250506T132817Z
UID:16848-1757500200-1757505600@sdr1825.org.uk
SUMMARY:Free Guided Walk: Why the Railway came to Darlington (daytime walk)
DESCRIPTION:Why the Railway came to Darlington (daytime walk)\nDarlington Town Centre to Hopetown Railway Visitor Attraction.\n1.5 miles (2.5 km)\, 1 hour 30 minutes. Mostly on pavements. Maximum group size 12. No dogs (except guide dogs). Easy to Moderate. \nWe will visit some of the key sites and learn about some of the people behind the birth of the world’s first passenger railway\, the Stockton & Darlington Railway\, which is 200 years old in September 2025. \nThe walk explores the origins and early years of the Railway including some significant buildings. We will also see how central Darlington has changed since 1825. \nAt the end of the walk you can choose to learn more about the development of the railway at the Hopetown visitor attraction (free ticketed entry). If you would like us to book this for you\, please indicate using the notes field on the registration form when registering attendees.\nDon’t miss this opportunity to get some exercise while discovering the rich history of the area! \nThis is a ticketed event and requires the registration form completing for each person attending by pressing the book this event button and following the instructions on the form:
URL:https://sdr1825.org.uk/event/why-the-railway-came-to-darlington-daytime-walk-57/
LOCATION:Darlington Market Place Circular Benches by entrance to St Cuthbert’s Churchyard what3words ///deputy.pies.doing\, Church Lane\, Darlington\, DL1 5QD
CATEGORIES:Walking Festival
END:VEVENT
BEGIN:VEVENT
DTSTART;TZID=Europe/London:20250917T190000
DTEND;TZID=Europe/London:20250917T190000
DTSTAMP:20260420T081443
CREATED:20250213T095917Z
LAST-MODIFIED:20250313T105032Z
UID:16575-1758135600-1758135600@sdr1825.org.uk
SUMMARY:Free Talk: The Stockton & Darlington Railway - Getting America on Track
DESCRIPTION:This is a ticketed event and requires the registration form completing for each person attending by pressing the book this event button and following the instructions on the form:
URL:https://sdr1825.org.uk/event/__trashed-41__trashed/
LOCATION:Shildon Railway Institute\, Shildon\, DL4 2JJ\, United Kingdom
CATEGORIES:Walking Festival
END:VEVENT
BEGIN:VEVENT
DTSTART;TZID=Europe/London:20250919T111500
DTEND;TZID=Europe/London:20250919T143000
DTSTAMP:20260420T081443
CREATED:20250213T095915Z
LAST-MODIFIED:20250915T174606Z
UID:16576-1758280500-1758292200@sdr1825.org.uk
SUMMARY:CANCELLED Free Guided Walk: The Fighting Cocks Line
DESCRIPTION:EVENT CANCELLED\nThe Fighting Cocks Line\nMiddleton St George to Darlington\n5.5 miles (8.5 km)\, 3 hours 15 mins. Maximum group size 20. Mostly along off-road paths. Dogs on leads (this is a shared use route on the National Cycling Network). Moderate (level gradient but stamina required). Stout footwear recommended. \nThis walk follows the trackbed of an original section of the Stockton and Darlington Railway\, looking at the development of railway infrastructure and the industries which grew up along the line. \nThe walk begins in Middleton St George village and ends at the Hopetown Railway Visitor Attraction\, next to North Road station in Darlington.+ \nThis is a ticketed event and requires the registration form completing for each person attending by pressing the book this event button and following the instructions on the form:
URL:https://sdr1825.org.uk/event/__trashed-40__trashed/
LOCATION:entrance to Middleton St George Play Park and Field ///validated.unwind.expert\, Station Road\, Middleton St George\, DL2 1JD\, United Kingdom
CATEGORIES:Walking Festival
END:VEVENT
BEGIN:VEVENT
DTSTART;TZID=Europe/London:20250920T103000
DTEND;TZID=Europe/London:20250920T133000
DTSTAMP:20260420T081443
CREATED:20250213T095912Z
LAST-MODIFIED:20250918T074530Z
UID:16578-1758364200-1758375000@sdr1825.org.uk
SUMMARY:CANCELLED Free Guided Walk: Teesdale Railway Walk
DESCRIPTION:WALK CANCELLED\nThis approximately 4 mile circular walk takes you on a tour of the industrial past of this important rural market town.  It will explore how it became a transpennine railway hub after a long battle with the Duke of Cleveland for it to have a railway connection at all. Learn about how the railway affected the town’s industry\, helped save lives and to become a holiday destination. \nThis is a ticketed event and requires the registration form completing for each person attending by pressing the book this event button and following the instructions on the form:
URL:https://sdr1825.org.uk/event/__trashed-38__trashed/
LOCATION:Teesdale Leisure Centre Carpark\, Teesdale Leisure Centre\, Stathmore Road\, Barnard Castle\, DL12 8DS\, United Kingdom
CATEGORIES:Walking Festival
END:VEVENT
BEGIN:VEVENT
DTSTART;TZID=Europe/London:20250923T103000
DTEND;TZID=Europe/London:20250923T120000
DTSTAMP:20260420T081443
CREATED:20250217T162643Z
LAST-MODIFIED:20250922T085803Z
UID:16853-1758623400-1758628800@sdr1825.org.uk
SUMMARY:Free Guided Walk: Why the Railway came to Darlington (daytime walk)
DESCRIPTION:WALK FULL \nWhy the Railway came to Darlington (daytime walk)\nDarlington Town Centre to Hopetown Railway Visitor Attraction.\n1.5 miles (2.5 km)\, 1 hour 30 minutes. Mostly on pavements. Maximum group size 12. No dogs (except guide dogs). Easy to Moderate. \nWe will visit some of the key sites and learn about some of the people behind the birth of the world’s first passenger railway\, the Stockton & Darlington Railway\, which is 200 years old in September 2025. \nThe walk explores the origins and early years of the Railway including some significant buildings. We will also see how central Darlington has changed since 1825. \nAt the end of the walk you can choose to learn more about the development of the railway at the Hopetown visitor attraction (free ticketed entry). If you would like us to book this for you\, please indicate using the notes field on the registration form when registering attendees.\nDon’t miss this opportunity to get some exercise while discovering the rich history of the area! \nThis is a ticketed event and requires the registration form completing for each person attending by pressing the book this event button and following the instructions on the form:
URL:https://sdr1825.org.uk/event/why-the-railway-came-to-darlington-daytime-walk-59/
LOCATION:Darlington Market Place Circular Benches by entrance to St Cuthbert’s Churchyard what3words ///deputy.pies.doing\, Church Lane\, Darlington\, DL1 5QD
CATEGORIES:Walking Festival
END:VEVENT
BEGIN:VEVENT
DTSTART;TZID=Europe/London:20250924T103000
DTEND;TZID=Europe/London:20250924T120000
DTSTAMP:20260420T081443
CREATED:20250213T095909Z
LAST-MODIFIED:20250506T132938Z
UID:16580-1758709800-1758715200@sdr1825.org.uk
SUMMARY:Free Guided Walk: Pease and Backhouse - the families who brought the S&DR to life
DESCRIPTION:Pease and Backhouse – an introduction to the families who brought the Stockton and Darlington Railway to life.\nDarlington Town Centre and the Quaker burial ground.\n1.5 miles (2 km)\, 1 hour 30 mins. Maximum group size 12. No dogs (except guide dogs). Very Easy. \nIn Darlington’s Quaker burial ground\, many members of the Pease and Backhouse families are buried. These were the characters responsible for the development of the Stockton and Darlington Railway. We will explore their stories of the origins and early years of the Railway. We will meet some of these characters\, and some of their interesting and colourful family members. \nAll of the walk takes place within Darlington town centre. There is a particular focus on the Quaker Burial ground where there are benches to sit on. \nThis is a ticketed event and requires the registration form completing for each person attending by pressing the book this event button and following the instructions on the form:
URL:https://sdr1825.org.uk/event/__trashed-36__trashed/
LOCATION:Darlington Market Place Circular Benches by entrance to St Cuthbert’s Churchyard what3words ///deputy.pies.doing\, Church Lane\, Darlington\, DL1 5QD
CATEGORIES:Walking Festival
END:VEVENT
BEGIN:VEVENT
DTSTART;TZID=Europe/London:20250925T103000
DTEND;TZID=Europe/London:20250925T120000
DTSTAMP:20260420T081443
CREATED:20250217T162644Z
LAST-MODIFIED:20250808T201322Z
UID:16855-1758796200-1758801600@sdr1825.org.uk
SUMMARY:Free Guided Walk: Why the Railway came to Darlington (daytime walk)
DESCRIPTION:Why the Railway came to Darlington (daytime walk)\nDarlington Town Centre to Hopetown Railway Visitor Attraction.\n1.5 miles (2.5 km)\, 1 hour 30 minutes. Mostly on pavements. Maximum group size 12. No dogs (except guide dogs). Easy to Moderate. \nWe will visit some of the key sites and learn about some of the people behind the birth of the world’s first passenger railway\, the Stockton & Darlington Railway\, which is 200 years old in September 2025. \nThe walk explores the origins and early years of the Railway including some significant buildings. We will also see how central Darlington has changed since 1825. \nAt the end of the walk you can choose to learn more about the development of the railway at the Hopetown visitor attraction (free ticketed entry). If you would like us to book this for you\, please indicate using the notes field on the registration form when registering attendees.\nDon’t miss this opportunity to get some exercise while discovering the rich history of the area! \nThis is a ticketed event and requires the registration form completing for each person attending by pressing the book this event button and following the instructions on the form:
URL:https://sdr1825.org.uk/event/why-the-railway-came-to-darlington-daytime-walk-60/
LOCATION:Darlington Market Place Circular Benches by entrance to St Cuthbert’s Churchyard what3words ///deputy.pies.doing\, Church Lane\, Darlington\, DL1 5QD
CATEGORIES:Walking Festival
END:VEVENT
END:VCALENDAR