BEGIN:VCALENDAR
VERSION:2.0
PRODID:-//Friends Of The Stockton &amp; Darlington Railway - ECPv6.15.20//NONSGML v1.0//EN
CALSCALE:GREGORIAN
METHOD:PUBLISH
X-ORIGINAL-URL:https://sdr1825.org.uk
X-WR-CALDESC:Events for Friends Of The Stockton &amp; Darlington Railway
REFRESH-INTERVAL;VALUE=DURATION:PT1H
X-Robots-Tag:noindex
X-PUBLISHED-TTL:PT1H
BEGIN:VTIMEZONE
TZID:Europe/London
BEGIN:DAYLIGHT
TZOFFSETFROM:+0000
TZOFFSETTO:+0100
TZNAME:BST
DTSTART:20240331T010000
END:DAYLIGHT
BEGIN:STANDARD
TZOFFSETFROM:+0100
TZOFFSETTO:+0000
TZNAME:GMT
DTSTART:20241027T010000
END:STANDARD
BEGIN:DAYLIGHT
TZOFFSETFROM:+0000
TZOFFSETTO:+0100
TZNAME:BST
DTSTART:20250330T010000
END:DAYLIGHT
BEGIN:STANDARD
TZOFFSETFROM:+0100
TZOFFSETTO:+0000
TZNAME:GMT
DTSTART:20251026T010000
END:STANDARD
BEGIN:DAYLIGHT
TZOFFSETFROM:+0000
TZOFFSETTO:+0100
TZNAME:BST
DTSTART:20260329T010000
END:DAYLIGHT
BEGIN:STANDARD
TZOFFSETFROM:+0100
TZOFFSETTO:+0000
TZNAME:GMT
DTSTART:20261025T010000
END:STANDARD
END:VTIMEZONE
BEGIN:VEVENT
DTSTART;TZID=Europe/London:20250416T102500
DTEND;TZID=Europe/London:20250416T102500
DTSTAMP:20260420T183609
CREATED:20250210T155559Z
LAST-MODIFIED:20250313T121018Z
UID:16527-1744799100-1744799100@sdr1825.org.uk
SUMMARY:Free Guided Walk: St Helen Auckland Railway Walk
DESCRIPTION:This is a ticketed event and requires the registration form completing for each person attending by pressing the book this event button and following the instructions on the form:
URL:https://sdr1825.org.uk/event/st-helen-auckland-railway-walk/
LOCATION:St. Helen Auckland parish church\, Manor Road\, St. Helen Auckland\, DL14 9ER\, United Kingdom
CATEGORIES:Walking Festival
END:VEVENT
BEGIN:VEVENT
DTSTART;TZID=Europe/London:20250416T190000
DTEND;TZID=Europe/London:20250416T190000
DTSTAMP:20260420T183609
CREATED:20250210T155613Z
LAST-MODIFIED:20250414T080144Z
UID:16528-1744830000-1744830000@sdr1825.org.uk
SUMMARY:Free Talk: The S&DR: Recovering the Timothy Hackworth Deficit
DESCRIPTION:Hackworth’s engineering prowess and ingenuity brought the power needed to accomplish and underpin the ever-expanding enterprise that was the S&DR. \nHis contribution\, talent and ingenuity played a vital part in the early days from 1827 to 1840; something that has been left standing neglected on the sidings. Time for a reckoning up; a recovery of the deficit that has left in the affairs of the S&DR. \nMike Norman’s background in IT was at the forefront of the technology of the Information Revolution\, and he now draws on that experience in defining the pioneering key developments of the steam locomotive. He is the author of ‘It Wasn’t Rocket Science’ – a biography of the life and times of Timothy Hackworth which\, set during preparations for the 1893 Columbian Exposition held in Chicago\, is told through the eyes of a grandson. \nPre-booking is not required for this event.
URL:https://sdr1825.org.uk/event/the-sdr-recovering-the-timothy-hackworth-deficit/
LOCATION:Shildon Railway Institute\, Shildon\, DL4 2JJ\, United Kingdom
CATEGORIES:Walking Festival
END:VEVENT
END:VCALENDAR