BEGIN:VCALENDAR
VERSION:2.0
PRODID:-//Friends Of The Stockton &amp; Darlington Railway - ECPv6.15.20//NONSGML v1.0//EN
CALSCALE:GREGORIAN
METHOD:PUBLISH
X-WR-CALNAME:Friends Of The Stockton &amp; Darlington Railway
X-ORIGINAL-URL:https://sdr1825.org.uk
X-WR-CALDESC:Events for Friends Of The Stockton &amp; Darlington Railway
REFRESH-INTERVAL;VALUE=DURATION:PT1H
X-Robots-Tag:noindex
X-PUBLISHED-TTL:PT1H
BEGIN:VTIMEZONE
TZID:Europe/London
BEGIN:DAYLIGHT
TZOFFSETFROM:+0000
TZOFFSETTO:+0100
TZNAME:BST
DTSTART:20240331T010000
END:DAYLIGHT
BEGIN:STANDARD
TZOFFSETFROM:+0100
TZOFFSETTO:+0000
TZNAME:GMT
DTSTART:20241027T010000
END:STANDARD
BEGIN:DAYLIGHT
TZOFFSETFROM:+0000
TZOFFSETTO:+0100
TZNAME:BST
DTSTART:20250330T010000
END:DAYLIGHT
BEGIN:STANDARD
TZOFFSETFROM:+0100
TZOFFSETTO:+0000
TZNAME:GMT
DTSTART:20251026T010000
END:STANDARD
BEGIN:DAYLIGHT
TZOFFSETFROM:+0000
TZOFFSETTO:+0100
TZNAME:BST
DTSTART:20260329T010000
END:DAYLIGHT
BEGIN:STANDARD
TZOFFSETFROM:+0100
TZOFFSETTO:+0000
TZNAME:GMT
DTSTART:20261025T010000
END:STANDARD
END:VTIMEZONE
BEGIN:VEVENT
DTSTART;TZID=Europe/London:20250514T103000
DTEND;TZID=Europe/London:20250514T103000
DTSTAMP:20260420T170420
CREATED:20250217T162654Z
LAST-MODIFIED:20250313T120426Z
UID:16861-1747218600-1747218600@sdr1825.org.uk
SUMMARY:Free Guided Walk: Haggerleases Branch Line Walk
DESCRIPTION:An 8.2 mile long walk from The Manor House Hotel in West Auckland along the historic Haggerleases Branch as far as Ramshaw and return. This easy going walk will finish at the historic manor house hotel where refreshments are available to purchase at the conclusion of the walk.
URL:https://sdr1825.org.uk/event/haggerleases-branch-line-walk/
LOCATION:Outside the Manor House Hotel\, West Auckland\, Front Street The Green\, West Auckland\, DL14 9HW\, United Kingdom
CATEGORIES:Walking Festival
END:VEVENT
END:VCALENDAR