BEGIN:VCALENDAR
VERSION:2.0
PRODID:-//Friends Of The Stockton &amp; Darlington Railway - ECPv6.15.20//NONSGML v1.0//EN
CALSCALE:GREGORIAN
METHOD:PUBLISH
X-WR-CALNAME:Friends Of The Stockton &amp; Darlington Railway
X-ORIGINAL-URL:https://sdr1825.org.uk
X-WR-CALDESC:Events for Friends Of The Stockton &amp; Darlington Railway
REFRESH-INTERVAL;VALUE=DURATION:PT1H
X-Robots-Tag:noindex
X-PUBLISHED-TTL:PT1H
BEGIN:VTIMEZONE
TZID:Europe/London
BEGIN:DAYLIGHT
TZOFFSETFROM:+0000
TZOFFSETTO:+0100
TZNAME:BST
DTSTART:20240331T010000
END:DAYLIGHT
BEGIN:STANDARD
TZOFFSETFROM:+0100
TZOFFSETTO:+0000
TZNAME:GMT
DTSTART:20241027T010000
END:STANDARD
BEGIN:DAYLIGHT
TZOFFSETFROM:+0000
TZOFFSETTO:+0100
TZNAME:BST
DTSTART:20250330T010000
END:DAYLIGHT
BEGIN:STANDARD
TZOFFSETFROM:+0100
TZOFFSETTO:+0000
TZNAME:GMT
DTSTART:20251026T010000
END:STANDARD
BEGIN:DAYLIGHT
TZOFFSETFROM:+0000
TZOFFSETTO:+0100
TZNAME:BST
DTSTART:20260329T010000
END:DAYLIGHT
BEGIN:STANDARD
TZOFFSETFROM:+0100
TZOFFSETTO:+0000
TZNAME:GMT
DTSTART:20261025T010000
END:STANDARD
END:VTIMEZONE
BEGIN:VEVENT
DTSTART;TZID=Europe/London:20250521T190000
DTEND;TZID=Europe/London:20250521T190000
DTSTAMP:20260420T170350
CREATED:20250213T095939Z
LAST-MODIFIED:20250402T094151Z
UID:16549-1747854000-1747854000@sdr1825.org.uk
SUMMARY:Free Talk: "Timothy Hackworth's Institute" - with Dave Reynolds
DESCRIPTION:As we’re into the Stockton & Darlington Railway Bicentenary year\, we’re teaming up with the Friends of the Stockton & Darlington Railway and Jane Hackworth-Young to present a series of talks at Timothy Hackworth’s own Institute. \nDave Reynolds is Chair of Shildon Railway Institute and the author of “An Insatiable First – 190 Years of Shildon Railway Institute” a well researched history of Hackworth’s pioneering organisation.
URL:https://sdr1825.org.uk/event/__trashed-67__trashed/
LOCATION:Shildon Railway Institute\, Shildon\, DL4 2JJ\, United Kingdom
CATEGORIES:Walking Festival
END:VEVENT
END:VCALENDAR