BEGIN:VCALENDAR
VERSION:2.0
PRODID:-//Friends Of The Stockton &amp; Darlington Railway - ECPv6.15.20//NONSGML v1.0//EN
CALSCALE:GREGORIAN
METHOD:PUBLISH
X-ORIGINAL-URL:https://sdr1825.org.uk
X-WR-CALDESC:Events for Friends Of The Stockton &amp; Darlington Railway
REFRESH-INTERVAL;VALUE=DURATION:PT1H
X-Robots-Tag:noindex
X-PUBLISHED-TTL:PT1H
BEGIN:VTIMEZONE
TZID:Europe/London
BEGIN:DAYLIGHT
TZOFFSETFROM:+0000
TZOFFSETTO:+0100
TZNAME:BST
DTSTART:20240331T010000
END:DAYLIGHT
BEGIN:STANDARD
TZOFFSETFROM:+0100
TZOFFSETTO:+0000
TZNAME:GMT
DTSTART:20241027T010000
END:STANDARD
BEGIN:DAYLIGHT
TZOFFSETFROM:+0000
TZOFFSETTO:+0100
TZNAME:BST
DTSTART:20250330T010000
END:DAYLIGHT
BEGIN:STANDARD
TZOFFSETFROM:+0100
TZOFFSETTO:+0000
TZNAME:GMT
DTSTART:20251026T010000
END:STANDARD
BEGIN:DAYLIGHT
TZOFFSETFROM:+0000
TZOFFSETTO:+0100
TZNAME:BST
DTSTART:20260329T010000
END:DAYLIGHT
BEGIN:STANDARD
TZOFFSETFROM:+0100
TZOFFSETTO:+0000
TZNAME:GMT
DTSTART:20261025T010000
END:STANDARD
END:VTIMEZONE
BEGIN:VEVENT
DTSTART;TZID=Europe/London:20250604T103000
DTEND;TZID=Europe/London:20250604T103000
DTSTAMP:20260420T154318
CREATED:20250217T162703Z
LAST-MODIFIED:20250319T130333Z
UID:16863-1749033000-1749033000@sdr1825.org.uk
SUMMARY:Free Guided Walk: Shildon Circular Walk
DESCRIPTION:Locomotion\, Shildon
URL:https://sdr1825.org.uk/event/shildon-circular-walk-3/
LOCATION:Locomotion\, Shildon\, Dale Road\, Shildon\, DL4 2RE\, United Kingdom
CATEGORIES:Walking Festival
ATTACH;FMTTYPE=image/jpeg:https://sdr1825.org.uk/wp-content/uploads/2025/03/Shildon-Circular-Walk-4th-June.jpg
END:VEVENT
END:VCALENDAR