BEGIN:VCALENDAR
VERSION:2.0
PRODID:-//Friends Of The Stockton &amp; Darlington Railway - ECPv6.15.20//NONSGML v1.0//EN
CALSCALE:GREGORIAN
METHOD:PUBLISH
X-ORIGINAL-URL:https://sdr1825.org.uk
X-WR-CALDESC:Events for Friends Of The Stockton &amp; Darlington Railway
REFRESH-INTERVAL;VALUE=DURATION:PT1H
X-Robots-Tag:noindex
X-PUBLISHED-TTL:PT1H
BEGIN:VTIMEZONE
TZID:Europe/London
BEGIN:DAYLIGHT
TZOFFSETFROM:+0000
TZOFFSETTO:+0100
TZNAME:BST
DTSTART:20240331T010000
END:DAYLIGHT
BEGIN:STANDARD
TZOFFSETFROM:+0100
TZOFFSETTO:+0000
TZNAME:GMT
DTSTART:20241027T010000
END:STANDARD
BEGIN:DAYLIGHT
TZOFFSETFROM:+0000
TZOFFSETTO:+0100
TZNAME:BST
DTSTART:20250330T010000
END:DAYLIGHT
BEGIN:STANDARD
TZOFFSETFROM:+0100
TZOFFSETTO:+0000
TZNAME:GMT
DTSTART:20251026T010000
END:STANDARD
BEGIN:DAYLIGHT
TZOFFSETFROM:+0000
TZOFFSETTO:+0100
TZNAME:BST
DTSTART:20260329T010000
END:DAYLIGHT
BEGIN:STANDARD
TZOFFSETFROM:+0100
TZOFFSETTO:+0000
TZNAME:GMT
DTSTART:20261025T010000
END:STANDARD
END:VTIMEZONE
BEGIN:VEVENT
DTSTART;TZID=Europe/London:20250820T190000
DTEND;TZID=Europe/London:20250820T190000
DTSTAMP:20260420T115932
CREATED:20250213T095921Z
LAST-MODIFIED:20250324T141651Z
UID:16571-1755716400-1755716400@sdr1825.org.uk
SUMMARY:Free Talk: Timothy Hackworth\, the man who engineered a future for the locomotive
DESCRIPTION:The delivery of power to the steam locomotive was the key to its adoption and success. What ends with the engineering accomplishments of Sir Nigel Gresley\, started with the engineering achievements of Timothy Hackworth. His story includes the missed opportunity of his most powerful design\, the markers he laid down for the Stockton and Darlington Railway before they were taken up by others and his unique contribution to the works at Shildon. \nMike Norman’s background in IT was at the forefront of the technology of the Information Revolution\, and he now draws on that experience in defining the pioneering key developments of the steam locomotive. He is the author of ‘It Wasn’t Rocket Science’ – a biography of the life and times of Timothy Hackworth which\, set during preparations for the 1893 Columbian Exposition held in Chicago\, is told through the eyes of a grandson.
URL:https://sdr1825.org.uk/event/__trashed-45__trashed/
LOCATION:Shildon Railway Institute\, Shildon\, DL4 2JJ\, United Kingdom
CATEGORIES:Walking Festival
END:VEVENT
END:VCALENDAR